BEGIN:VCALENDAR
VERSION:2.0
PRODID:-//Virgil &amp; Josephine Gordon Memorial Library - ECPv6.15.20//NONSGML v1.0//EN
CALSCALE:GREGORIAN
METHOD:PUBLISH
X-WR-CALNAME:Virgil &amp; Josephine Gordon Memorial Library
X-ORIGINAL-URL:https://gordonmemoriallibrary.org
X-WR-CALDESC:Events for Virgil &amp; Josephine Gordon Memorial Library
REFRESH-INTERVAL;VALUE=DURATION:PT1H
X-Robots-Tag:noindex
X-PUBLISHED-TTL:PT1H
BEGIN:VTIMEZONE
TZID:America/Chicago
BEGIN:DAYLIGHT
TZOFFSETFROM:-0600
TZOFFSETTO:-0500
TZNAME:CDT
DTSTART:20250309T080000
END:DAYLIGHT
BEGIN:STANDARD
TZOFFSETFROM:-0500
TZOFFSETTO:-0600
TZNAME:CST
DTSTART:20251102T070000
END:STANDARD
BEGIN:DAYLIGHT
TZOFFSETFROM:-0600
TZOFFSETTO:-0500
TZNAME:CDT
DTSTART:20260308T080000
END:DAYLIGHT
BEGIN:STANDARD
TZOFFSETFROM:-0500
TZOFFSETTO:-0600
TZNAME:CST
DTSTART:20261101T070000
END:STANDARD
BEGIN:DAYLIGHT
TZOFFSETFROM:-0600
TZOFFSETTO:-0500
TZNAME:CDT
DTSTART:20270314T080000
END:DAYLIGHT
BEGIN:STANDARD
TZOFFSETFROM:-0500
TZOFFSETTO:-0600
TZNAME:CST
DTSTART:20271107T070000
END:STANDARD
END:VTIMEZONE
BEGIN:VEVENT
DTSTART;TZID=America/Chicago:20260312T093000
DTEND;TZID=America/Chicago:20260813T113000
DTSTAMP:20260421T000948
CREATED:20241111T190303Z
LAST-MODIFIED:20260220T190654Z
UID:1136-1773307800-1786620600@gordonmemoriallibrary.org
SUMMARY:Page Flippers
DESCRIPTION:Please join our book club\, Page Flippers every second Thursday of the month. \n  \n. \n 
URL:https://gordonmemoriallibrary.org/event/page-flippers/
LOCATION:Gordon Memorial Library\, 917 North Circle\, Sealy\, TX\, 77474
ORGANIZER;CN="AbbyLynn Moyle":MAILTO:info@gordonmemoriallibrary.org
END:VEVENT
END:VCALENDAR